Package: mogsa Version: 1.41.0 Command: rm -rf mogsa.buildbin-libdir && mkdir mogsa.buildbin-libdir && /Users/biocbuild/BBS/utils/build-universal.sh mogsa_1.41.0.tar.gz /Library/Frameworks/R.framework/Resources/bin/R mogsa.buildbin-libdir StartedAt: 2025-02-10 01:03:36 -0500 (Mon, 10 Feb 2025) EndedAt: 2025-02-10 01:04:11 -0500 (Mon, 10 Feb 2025) EllapsedTime: 34.3 seconds RetCode: 0 Status: OK PackageFile: mogsa_1.41.0.tgz PackageFileSize: 1.218 MiB