Package: mogsa Version: 1.41.0 Command: /Library/Frameworks/R.framework/Resources/bin/R CMD check --install=check:mogsa.install-out.txt --library=/Library/Frameworks/R.framework/Resources/library --no-vignettes --timings mogsa_1.41.0.tar.gz StartedAt: 2025-02-09 22:02:11 -0500 (Sun, 09 Feb 2025) EndedAt: 2025-02-09 22:05:00 -0500 (Sun, 09 Feb 2025) EllapsedTime: 168.4 seconds RetCode: 0 Status: OK CheckDir: mogsa.Rcheck Warnings: 0