Package: mogsa Version: 1.41.0 Command: rm -rf mogsa.buildbin-libdir && mkdir mogsa.buildbin-libdir && E:\biocbuild\bbs-3.21-bioc\R\bin\R.exe CMD INSTALL --build --library=mogsa.buildbin-libdir mogsa_1.41.0.tar.gz StartedAt: 2025-02-10 08:11:06 -0500 (Mon, 10 Feb 2025) EndedAt: 2025-02-10 08:11:55 -0500 (Mon, 10 Feb 2025) EllapsedTime: 49.3 seconds RetCode: 0 Status: OK PackageFile: mogsa_1.41.0.zip PackageFileSize: 1.221 MiB