Package: mogsa Version: 1.41.0 Command: chmod a+r mogsa -R && E:\biocbuild\bbs-3.21-bioc\R\bin\R.exe CMD build --keep-empty-dirs --no-resave-data mogsa StartedAt: 2025-02-09 20:01:17 -0500 (Sun, 09 Feb 2025) EndedAt: 2025-02-09 20:04:45 -0500 (Sun, 09 Feb 2025) EllapsedTime: 207.4 seconds RetCode: 0 Status: OK PackageFile: mogsa_1.41.0.tar.gz PackageFileSize: 775.5 KiB