Package: mogsa Version: 1.41.0 Command: E:\biocbuild\bbs-3.21-bioc\R\bin\R.exe CMD INSTALL mogsa StartedAt: 2025-02-09 15:56:49 -0500 (Sun, 09 Feb 2025) EndedAt: 2025-02-09 15:57:39 -0500 (Sun, 09 Feb 2025) EllapsedTime: 50.4 seconds RetCode: 0 Status: OK