Package: mosaics Version: 2.45.0 Command: /home/biocbuild/bbs-3.21-bioc/R/bin/R CMD build --keep-empty-dirs --no-resave-data mosaics StartedAt: 2025-02-09 18:13:50 -0500 (Sun, 09 Feb 2025) EndedAt: 2025-02-09 18:16:24 -0500 (Sun, 09 Feb 2025) EllapsedTime: 154.1 seconds RetCode: 0 Status: OK PackageFile: mosaics_2.45.0.tar.gz PackageFileSize: 2.043 MiB