Package: mosaics Version: 2.45.0 Command: /home/biocbuild/bbs-3.21-bioc/R/bin/R CMD check --install=check:mosaics.install-out.txt --library=/home/biocbuild/bbs-3.21-bioc/R/site-library --timings mosaics_2.45.0.tar.gz StartedAt: 2025-02-10 00:22:20 -0500 (Mon, 10 Feb 2025) EndedAt: 2025-02-10 00:27:22 -0500 (Mon, 10 Feb 2025) EllapsedTime: 302.3 seconds RetCode: 0 Status: OK CheckDir: mosaics.Rcheck Warnings: 0