Package: mosaics Version: 2.45.0 Command: chmod a+r mosaics -R && E:\biocbuild\bbs-3.21-bioc\R\bin\R.exe CMD build --keep-empty-dirs --no-resave-data mosaics StartedAt: 2025-02-09 20:02:29 -0500 (Sun, 09 Feb 2025) EndedAt: 2025-02-09 20:06:16 -0500 (Sun, 09 Feb 2025) EllapsedTime: 227.4 seconds RetCode: 0 Status: OK PackageFile: mosaics_2.45.0.tar.gz PackageFileSize: 1.851 MiB