Package: mosaics Version: 2.45.0 Command: E:\biocbuild\bbs-3.21-bioc\R\bin\R.exe CMD check --no-multiarch --install=check:mosaics.install-out.txt --library=E:\biocbuild\bbs-3.21-bioc\R\library --no-vignettes --timings mosaics_2.45.0.tar.gz StartedAt: 2025-02-13 03:20:01 -0500 (Thu, 13 Feb 2025) EndedAt: 2025-02-13 03:23:52 -0500 (Thu, 13 Feb 2025) EllapsedTime: 231.0 seconds RetCode: 0 Status: OK CheckDir: mosaics.Rcheck Warnings: 0