Package: mosdef Version: 1.3.1 Command: rm -rf mosdef.buildbin-libdir && mkdir mosdef.buildbin-libdir && /Users/biocbuild/BBS/utils/build-universal.sh mosdef_1.3.1.tar.gz /Library/Frameworks/R.framework/Resources/bin/R mosdef.buildbin-libdir StartedAt: 2025-02-09 22:21:56 -0500 (Sun, 09 Feb 2025) EndedAt: 2025-02-09 22:22:17 -0500 (Sun, 09 Feb 2025) EllapsedTime: 20.3 seconds RetCode: 0 Status: OK PackageFile: mosdef_1.3.1.tgz PackageFileSize: 4.661 MiB