Package: mosdef Version: 1.3.1 Command: /Library/Frameworks/R.framework/Resources/bin/R CMD check --install=check:mosdef.install-out.txt --library=/Library/Frameworks/R.framework/Resources/library --no-vignettes --timings mosdef_1.3.1.tar.gz StartedAt: 2025-02-09 20:13:15 -0500 (Sun, 09 Feb 2025) EndedAt: 2025-02-09 20:17:27 -0500 (Sun, 09 Feb 2025) EllapsedTime: 251.8 seconds RetCode: 0 Status: OK CheckDir: mosdef.Rcheck Warnings: 0