Package: mosdef Version: 1.3.1 Command: /home/biocbuild/bbs-3.21-bioc/R/bin/R CMD build --keep-empty-dirs --no-resave-data mosdef StartedAt: 2025-02-09 18:14:26 -0500 (Sun, 09 Feb 2025) EndedAt: 2025-02-09 18:19:33 -0500 (Sun, 09 Feb 2025) EllapsedTime: 307.3 seconds RetCode: 0 Status: OK PackageFile: mosdef_1.3.1.tar.gz PackageFileSize: 4.395 MiB