Package: mosdef Version: 1.3.1 Command: /home/biocbuild/bbs-3.21-bioc/R/bin/R CMD INSTALL mosdef StartedAt: 2025-02-09 15:47:31 -0500 (Sun, 09 Feb 2025) EndedAt: 2025-02-09 15:48:17 -0500 (Sun, 09 Feb 2025) EllapsedTime: 45.9 seconds RetCode: 0 Status: OK