Package: mosdef Version: 1.3.1 Command: rm -rf mosdef.buildbin-libdir && mkdir mosdef.buildbin-libdir && E:\biocbuild\bbs-3.21-bioc\R\bin\R.exe CMD INSTALL --build --library=mosdef.buildbin-libdir mosdef_1.3.1.tar.gz StartedAt: 2025-02-13 08:22:37 -0500 (Thu, 13 Feb 2025) EndedAt: 2025-02-13 08:23:34 -0500 (Thu, 13 Feb 2025) EllapsedTime: 56.7 seconds RetCode: 0 Status: OK PackageFile: mosdef_1.3.1.zip PackageFileSize: 3.62 MiB