Package: motifStack Version: 1.51.1 Command: rm -rf motifStack.buildbin-libdir && mkdir motifStack.buildbin-libdir && /Users/biocbuild/BBS/utils/build-universal.sh motifStack_1.51.1.tar.gz /Library/Frameworks/R.framework/Resources/bin/R motifStack.buildbin-libdir StartedAt: 2025-02-09 22:22:08 -0500 (Sun, 09 Feb 2025) EndedAt: 2025-02-09 22:22:30 -0500 (Sun, 09 Feb 2025) EllapsedTime: 22.4 seconds RetCode: 0 Status: OK PackageFile: motifStack_1.51.1.tgz PackageFileSize: 4.639 MiB