Package: motifStack Version: 1.51.1 Command: /Library/Frameworks/R.framework/Resources/bin/R CMD check --install=check:motifStack.install-out.txt --library=/Library/Frameworks/R.framework/Resources/library --no-vignettes --timings motifStack_1.51.1.tar.gz StartedAt: 2025-02-04 20:17:07 -0500 (Tue, 04 Feb 2025) EndedAt: 2025-02-04 20:19:20 -0500 (Tue, 04 Feb 2025) EllapsedTime: 132.6 seconds RetCode: 0 Status: OK CheckDir: motifStack.Rcheck Warnings: 0