Package: motifStack Version: 1.51.1 Command: /home/biocbuild/R/R/bin/R CMD build --keep-empty-dirs --no-resave-data motifStack StartedAt: 2025-01-29 00:34:49 -0000 (Wed, 29 Jan 2025) EndedAt: 2025-01-29 00:37:53 -0000 (Wed, 29 Jan 2025) EllapsedTime: 184.0 seconds RetCode: 0 Status: OK PackageFile: motifStack_1.51.1.tar.gz PackageFileSize: 1.29 MiB