Package: motifStack Version: 1.51.1 Command: rm -rf motifStack.buildbin-libdir && mkdir motifStack.buildbin-libdir && /Users/biocbuild/BBS/utils/build-universal.sh motifStack_1.51.1.tar.gz /Library/Frameworks/R.framework/Resources/bin/R motifStack.buildbin-libdir StartedAt: 2025-02-05 00:50:15 -0500 (Wed, 05 Feb 2025) EndedAt: 2025-02-05 00:51:25 -0500 (Wed, 05 Feb 2025) EllapsedTime: 70.5 seconds RetCode: 0 Status: OK PackageFile: motifStack_1.51.1.tgz PackageFileSize: 4.674 MiB