Package: motifStack Version: 1.51.1 Command: /Library/Frameworks/R.framework/Resources/bin/R CMD INSTALL motifStack StartedAt: 2025-02-09 15:24:05 -0500 (Sun, 09 Feb 2025) EndedAt: 2025-02-09 15:25:11 -0500 (Sun, 09 Feb 2025) EllapsedTime: 66.6 seconds RetCode: 0 Status: OK