Package: motifStack Version: 1.51.1 Command: /home/biocbuild/bbs-3.21-bioc/R/bin/R CMD check --install=check:motifStack.install-out.txt --library=/home/biocbuild/bbs-3.21-bioc/R/site-library --timings motifStack_1.51.1.tar.gz StartedAt: 2025-02-10 00:25:23 -0500 (Mon, 10 Feb 2025) EndedAt: 2025-02-10 00:32:30 -0500 (Mon, 10 Feb 2025) EllapsedTime: 426.5 seconds RetCode: 0 Status: OK CheckDir: motifStack.Rcheck Warnings: 0