Package: motifStack Version: 1.51.1 Command: /home/biocbuild/bbs-3.21-bioc/R/bin/R CMD INSTALL motifStack StartedAt: 2025-02-09 15:52:04 -0500 (Sun, 09 Feb 2025) EndedAt: 2025-02-09 15:52:55 -0500 (Sun, 09 Feb 2025) EllapsedTime: 50.9 seconds RetCode: 0 Status: OK