Package: motifStack Version: 1.51.1 Command: chmod a+r motifStack -R && E:\biocbuild\bbs-3.21-bioc\R\bin\R.exe CMD build --keep-empty-dirs --no-resave-data motifStack StartedAt: 2025-02-12 20:10:23 -0500 (Wed, 12 Feb 2025) EndedAt: 2025-02-12 20:12:12 -0500 (Wed, 12 Feb 2025) EllapsedTime: 109.2 seconds RetCode: 0 Status: OK PackageFile: motifStack_1.51.1.tar.gz PackageFileSize: 561.6 KiB