Package: motifStack Version: 1.51.1 Command: E:\biocbuild\bbs-3.21-bioc\R\bin\R.exe CMD INSTALL motifStack StartedAt: 2025-02-09 16:40:25 -0500 (Sun, 09 Feb 2025) EndedAt: 2025-02-09 16:42:00 -0500 (Sun, 09 Feb 2025) EllapsedTime: 95.4 seconds RetCode: 0 Status: OK