Package: motifTestR Version: 1.3.3 Command: /Library/Frameworks/R.framework/Resources/bin/R CMD check --install=check:motifTestR.install-out.txt --library=/Library/Frameworks/R.framework/Resources/library --no-vignettes --timings motifTestR_1.3.3.tar.gz StartedAt: 2025-02-09 20:15:41 -0500 (Sun, 09 Feb 2025) EndedAt: 2025-02-09 20:16:46 -0500 (Sun, 09 Feb 2025) EllapsedTime: 64.7 seconds RetCode: 0 Status: OK CheckDir: motifTestR.Rcheck Warnings: 0