Package: motifTestR Version: 1.3.3 Command: /home/biocbuild/R/R/bin/R CMD build --keep-empty-dirs --no-resave-data motifTestR StartedAt: 2025-01-29 00:34:51 -0000 (Wed, 29 Jan 2025) EndedAt: 2025-01-29 00:36:53 -0000 (Wed, 29 Jan 2025) EllapsedTime: 122.0 seconds RetCode: 0 Status: OK PackageFile: motifTestR_1.3.3.tar.gz PackageFileSize: 869.7 KiB