Package: motifTestR Version: 1.3.3 Command: /home/biocbuild/R/R/bin/R CMD INSTALL motifTestR StartedAt: 2025-01-29 19:41:56 -0000 (Wed, 29 Jan 2025) EndedAt: 2025-01-29 19:42:15 -0000 (Wed, 29 Jan 2025) EllapsedTime: 19.1 seconds RetCode: 0 Status: OK