Package: motifTestR Version: 1.3.3 Command: /home/biocbuild/bbs-3.21-bioc/R/bin/R CMD check --install=check:motifTestR.install-out.txt --library=/home/biocbuild/bbs-3.21-bioc/R/site-library --timings motifTestR_1.3.3.tar.gz StartedAt: 2025-02-13 00:26:45 -0500 (Thu, 13 Feb 2025) EndedAt: 2025-02-13 00:30:52 -0500 (Thu, 13 Feb 2025) EllapsedTime: 247.2 seconds RetCode: 0 Status: OK CheckDir: motifTestR.Rcheck Warnings: 0