Package: motifTestR Version: 1.3.3 Command: E:\biocbuild\bbs-3.21-bioc\R\bin\R.exe CMD check --no-multiarch --install=check:motifTestR.install-out.txt --library=E:\biocbuild\bbs-3.21-bioc\R\library --no-vignettes --timings motifTestR_1.3.3.tar.gz StartedAt: 2025-02-10 03:11:38 -0500 (Mon, 10 Feb 2025) EndedAt: 2025-02-10 03:14:58 -0500 (Mon, 10 Feb 2025) EllapsedTime: 199.6 seconds RetCode: 0 Status: OK CheckDir: motifTestR.Rcheck Warnings: 0