Package: motifTestR Version: 1.3.3 Command: E:\biocbuild\bbs-3.21-bioc\R\bin\R.exe CMD INSTALL motifTestR StartedAt: 2025-02-09 15:44:45 -0500 (Sun, 09 Feb 2025) EndedAt: 2025-02-09 15:45:16 -0500 (Sun, 09 Feb 2025) EllapsedTime: 31.0 seconds RetCode: 0 Status: OK