Package: motifbreakR Version: 2.21.0 Command: rm -rf motifbreakR.buildbin-libdir && mkdir motifbreakR.buildbin-libdir && /Users/biocbuild/BBS/utils/build-universal.sh motifbreakR_2.21.0.tar.gz /Library/Frameworks/R.framework/Resources/bin/R motifbreakR.buildbin-libdir StartedAt: 2025-02-10 01:03:57 -0500 (Mon, 10 Feb 2025) EndedAt: 2025-02-10 01:05:34 -0500 (Mon, 10 Feb 2025) EllapsedTime: 96.9 seconds RetCode: 0 Status: OK PackageFile: motifbreakR_2.21.0.tgz PackageFileSize: 2.443 MiB