Package: motifbreakR Version: 2.21.0 Command: /Library/Frameworks/R.framework/Resources/bin/R CMD build --keep-empty-dirs --no-resave-data motifbreakR StartedAt: 2025-02-09 17:33:17 -0500 (Sun, 09 Feb 2025) EndedAt: 2025-02-09 17:44:16 -0500 (Sun, 09 Feb 2025) EllapsedTime: 658.5 seconds RetCode: 0 Status: OK PackageFile: motifbreakR_2.21.0.tar.gz PackageFileSize: 2.489 MiB