Package: motifbreakR Version: 2.21.0 Command: /Library/Frameworks/R.framework/Resources/bin/R CMD check --install=check:motifbreakR.install-out.txt --library=/Library/Frameworks/R.framework/Resources/library --no-vignettes --timings motifbreakR_2.21.0.tar.gz StartedAt: 2025-02-09 22:04:23 -0500 (Sun, 09 Feb 2025) EndedAt: 2025-02-09 22:16:08 -0500 (Sun, 09 Feb 2025) EllapsedTime: 705.2 seconds RetCode: 0 Status: WARNINGS CheckDir: motifbreakR.Rcheck Warnings: 1