Package: motifbreakR Version: 2.21.0 Command: /Library/Frameworks/R.framework/Resources/bin/R CMD INSTALL motifbreakR StartedAt: 2025-02-09 15:30:38 -0500 (Sun, 09 Feb 2025) EndedAt: 2025-02-09 15:32:13 -0500 (Sun, 09 Feb 2025) EllapsedTime: 94.1 seconds RetCode: 0 Status: OK