Package: motifbreakR Version: 2.21.0 Command: /home/biocbuild/bbs-3.21-bioc/R/bin/R CMD build --keep-empty-dirs --no-resave-data motifbreakR StartedAt: 2025-02-09 18:14:58 -0500 (Sun, 09 Feb 2025) EndedAt: 2025-02-09 18:21:45 -0500 (Sun, 09 Feb 2025) EllapsedTime: 407.4 seconds RetCode: 0 Status: OK PackageFile: motifbreakR_2.21.0.tar.gz PackageFileSize: 2.302 MiB