Package: motifbreakR Version: 2.21.0 Command: /home/biocbuild/bbs-3.21-bioc/R/bin/R CMD check --install=check:motifbreakR.install-out.txt --library=/home/biocbuild/bbs-3.21-bioc/R/site-library --timings motifbreakR_2.21.0.tar.gz StartedAt: 2025-02-10 00:23:43 -0500 (Mon, 10 Feb 2025) EndedAt: 2025-02-10 00:40:51 -0500 (Mon, 10 Feb 2025) EllapsedTime: 1028.2 seconds RetCode: 0 Status: WARNINGS CheckDir: motifbreakR.Rcheck Warnings: 1