Package: motifbreakR Version: 2.21.0 Command: rm -rf motifbreakR.buildbin-libdir && mkdir motifbreakR.buildbin-libdir && E:\biocbuild\bbs-3.21-bioc\R\bin\R.exe CMD INSTALL --build --library=motifbreakR.buildbin-libdir motifbreakR_2.21.0.tar.gz StartedAt: 2025-02-13 08:22:44 -0500 (Thu, 13 Feb 2025) EndedAt: 2025-02-13 08:24:19 -0500 (Thu, 13 Feb 2025) EllapsedTime: 94.2 seconds RetCode: 0 Status: OK PackageFile: motifbreakR_2.21.0.zip PackageFileSize: 2.007 MiB