Package: motifbreakR Version: 2.21.0 Command: chmod a+r motifbreakR -R && E:\biocbuild\bbs-3.21-bioc\R\bin\R.exe CMD build --keep-empty-dirs --no-resave-data motifbreakR StartedAt: 2025-02-09 20:04:22 -0500 (Sun, 09 Feb 2025) EndedAt: 2025-02-09 20:17:31 -0500 (Sun, 09 Feb 2025) EllapsedTime: 789.1 seconds RetCode: 0 Status: OK PackageFile: motifbreakR_2.21.0.tar.gz PackageFileSize: 2.047 MiB