Package: motifbreakR Version: 2.21.0 Command: E:\biocbuild\bbs-3.21-bioc\R\bin\R.exe CMD INSTALL motifbreakR StartedAt: 2025-02-09 16:50:37 -0500 (Sun, 09 Feb 2025) EndedAt: 2025-02-09 16:51:59 -0500 (Sun, 09 Feb 2025) EllapsedTime: 82.2 seconds RetCode: 0 Status: OK