Package: motifmatchr Version: 1.29.0 Command: rm -rf motifmatchr.buildbin-libdir && mkdir motifmatchr.buildbin-libdir && /Users/biocbuild/BBS/utils/build-universal.sh motifmatchr_1.29.0.tar.gz /Library/Frameworks/R.framework/Resources/bin/R motifmatchr.buildbin-libdir StartedAt: 2025-02-09 22:22:04 -0500 (Sun, 09 Feb 2025) EndedAt: 2025-02-09 22:22:28 -0500 (Sun, 09 Feb 2025) EllapsedTime: 24.5 seconds RetCode: 0 Status: OK PackageFile: motifmatchr_1.29.0.tgz PackageFileSize: 183.7 KiB