Package: motifmatchr Version: 1.29.0 Command: /Library/Frameworks/R.framework/Resources/bin/R CMD build --keep-empty-dirs --no-resave-data motifmatchr StartedAt: 2025-02-12 17:29:16 -0500 (Wed, 12 Feb 2025) EndedAt: 2025-02-12 17:31:48 -0500 (Wed, 12 Feb 2025) EllapsedTime: 152.2 seconds RetCode: 0 Status: OK PackageFile: motifmatchr_1.29.0.tar.gz PackageFileSize: 51.96 KiB