Package: motifmatchr Version: 1.29.0 Command: /home/biocbuild/bbs-3.21-bioc/R/bin/R CMD INSTALL motifmatchr StartedAt: 2025-02-09 15:51:56 -0500 (Sun, 09 Feb 2025) EndedAt: 2025-02-09 15:53:03 -0500 (Sun, 09 Feb 2025) EllapsedTime: 66.3 seconds RetCode: 0 Status: OK