Package: motifmatchr Version: 1.29.0 Command: E:\biocbuild\bbs-3.21-bioc\R\bin\R.exe CMD check --no-multiarch --install=check:motifmatchr.install-out.txt --library=E:\biocbuild\bbs-3.21-bioc\R\library --no-vignettes --timings motifmatchr_1.29.0.tar.gz StartedAt: 2025-02-10 03:11:08 -0500 (Mon, 10 Feb 2025) EndedAt: 2025-02-10 03:17:14 -0500 (Mon, 10 Feb 2025) EllapsedTime: 365.6 seconds RetCode: 0 Status: OK CheckDir: motifmatchr.Rcheck Warnings: 0