Package: msImpute Version: 1.17.0 Command: rm -rf msImpute.buildbin-libdir && mkdir msImpute.buildbin-libdir && /Users/biocbuild/BBS/utils/build-universal.sh msImpute_1.17.0.tar.gz /Library/Frameworks/R.framework/Resources/bin/R msImpute.buildbin-libdir StartedAt: 2025-02-12 22:27:43 -0500 (Wed, 12 Feb 2025) EndedAt: 2025-02-12 22:27:56 -0500 (Wed, 12 Feb 2025) EllapsedTime: 13.2 seconds RetCode: 0 Status: OK PackageFile: msImpute_1.17.0.tgz PackageFileSize: 2.278 MiB