Package: msImpute Version: 1.17.0 Command: /home/biocbuild/R/R/bin/R CMD build --keep-empty-dirs --no-resave-data msImpute StartedAt: 2025-01-29 00:39:15 -0000 (Wed, 29 Jan 2025) EndedAt: 2025-01-29 00:40:49 -0000 (Wed, 29 Jan 2025) EllapsedTime: 94.0 seconds RetCode: 0 Status: OK PackageFile: msImpute_1.17.0.tar.gz PackageFileSize: 1.674 MiB