Package: msImpute Version: 1.17.0 Command: /home/biocbuild/R/R/bin/R CMD INSTALL msImpute StartedAt: 2025-01-29 20:29:34 -0000 (Wed, 29 Jan 2025) EndedAt: 2025-01-29 20:30:12 -0000 (Wed, 29 Jan 2025) EllapsedTime: 37.8 seconds RetCode: 0 Status: OK