Package: msImpute Version: 1.17.0 Command: rm -rf msImpute.buildbin-libdir && mkdir msImpute.buildbin-libdir && /Users/biocbuild/BBS/utils/build-universal.sh msImpute_1.17.0.tar.gz /Library/Frameworks/R.framework/Resources/bin/R msImpute.buildbin-libdir StartedAt: 2025-02-10 01:04:33 -0500 (Mon, 10 Feb 2025) EndedAt: 2025-02-10 01:05:14 -0500 (Mon, 10 Feb 2025) EllapsedTime: 41.6 seconds RetCode: 0 Status: OK PackageFile: msImpute_1.17.0.tgz PackageFileSize: 2.275 MiB