Package: msImpute Version: 1.17.0 Command: /home/biocbuild/bbs-3.21-bioc/R/bin/R CMD check --install=check:msImpute.install-out.txt --library=/home/biocbuild/bbs-3.21-bioc/R/site-library --timings msImpute_1.17.0.tar.gz StartedAt: 2025-02-13 00:31:10 -0500 (Thu, 13 Feb 2025) EndedAt: 2025-02-13 00:35:16 -0500 (Thu, 13 Feb 2025) EllapsedTime: 245.2 seconds RetCode: 0 Status: OK CheckDir: msImpute.Rcheck Warnings: 0