Package: msImpute Version: 1.17.0 Command: rm -rf msImpute.buildbin-libdir && mkdir msImpute.buildbin-libdir && E:\biocbuild\bbs-3.21-bioc\R\bin\R.exe CMD INSTALL --build --library=msImpute.buildbin-libdir msImpute_1.17.0.tar.gz StartedAt: 2025-02-10 08:13:28 -0500 (Mon, 10 Feb 2025) EndedAt: 2025-02-10 08:14:05 -0500 (Mon, 10 Feb 2025) EllapsedTime: 36.8 seconds RetCode: 0 Status: OK PackageFile: msImpute_1.17.0.zip PackageFileSize: 1.983 MiB