Package: msImpute Version: 1.17.0 Command: chmod a+r msImpute -R && E:\biocbuild\bbs-3.21-bioc\R\bin\R.exe CMD build --keep-empty-dirs --no-resave-data msImpute StartedAt: 2025-02-09 20:07:26 -0500 (Sun, 09 Feb 2025) EndedAt: 2025-02-09 20:09:28 -0500 (Sun, 09 Feb 2025) EllapsedTime: 122.6 seconds RetCode: 0 Status: OK PackageFile: msImpute_1.17.0.tar.gz PackageFileSize: 1.601 MiB