Package: msImpute Version: 1.17.0 Command: E:\biocbuild\bbs-3.21-bioc\R\bin\R.exe CMD check --no-multiarch --install=check:msImpute.install-out.txt --library=E:\biocbuild\bbs-3.21-bioc\R\library --no-vignettes --timings msImpute_1.17.0.tar.gz StartedAt: 2025-02-10 03:17:25 -0500 (Mon, 10 Feb 2025) EndedAt: 2025-02-10 03:21:09 -0500 (Mon, 10 Feb 2025) EllapsedTime: 224.4 seconds RetCode: 0 Status: OK CheckDir: msImpute.Rcheck Warnings: 0